BEGIN:VCALENDAR
VERSION:2.0
PRODID:-//Tukios.com/
BEGIN:VEVENT
UID:64079055-37b0-46bc-8f59-f1e18179e121@www.eckhardtfuneralchapel.com
DTSTAMP:20260423T230731Z
DTSTART:20260427T150000Z
DTEND:20260427T160000Z
SUMMARY:Funeral Service
DESCRIPTION:
URL:https://www.eckhardtfuneralchapel.com/obituaries/barbara-bosley
LOCATION: 11605 Reisterstown Rd  Owings Mills MD 21117
GEO:39.4411248;-76.8063993
END:VEVENT
END:VCALENDAR