BEGIN:VCALENDAR
VERSION:2.0
PRODID:-//Tukios.com/
BEGIN:VEVENT
UID:5be458a0-c9b7-4f4c-b070-d7dd4150e804@www.eckhardtfuneralchapel.com
DTSTAMP:20260422T160526Z
DTSTART:20260425T150000Z
DTEND:20260425T160000Z
SUMMARY:Visitation
DESCRIPTION:
URL:https://www.eckhardtfuneralchapel.com/obituaries/gregory-keller
LOCATION: 3296 Charmil Dr  Manchester MD 21102
GEO:39.649977;-76.8794635
END:VEVENT
END:VCALENDAR