BEGIN:VCALENDAR
VERSION:2.0
PRODID:-//Tukios.com/
BEGIN:VEVENT
UID:a12f51ff-ac0e-4507-b0f2-ebeb9dd5badd@www.eckhardtfuneralchapel.com
DTSTAMP:20260422T160548Z
DTSTART:20260425T160000Z
DTEND:20260425T170000Z
SUMMARY:Funeral Service
DESCRIPTION:
URL:https://www.eckhardtfuneralchapel.com/obituaries/gregory-keller
LOCATION: 3296 Charmil Dr  Manchester MD 21102
GEO:39.649977;-76.8794635
END:VEVENT
END:VCALENDAR